BEGIN:VCALENDAR
VERSION:2.0
PRODID:sbir.cancer.gov
BEGIN:VEVENT
UID:69ebda8ec267c
DTSTART:20220721T180000Z
SEQUENCE:0
TRANSP:OPAQUE
DTEND:20220721T190000Z
SUMMARY:Small Business Transition Grant Informational Webinar
CLASS:PUBLIC
DESCRIPTION:Join NCI SBIR to learn more about the Small Business Transition
  Grant!
DTSTAMP:20260424T210310Z
END:VEVENT
END:VCALENDAR