BEGIN:VCALENDAR
VERSION:2.0
PRODID:sbir.cancer.gov
BEGIN:VEVENT
UID:69ed45345a179
DTSTART:20260430T180000Z
SEQUENCE:0
TRANSP:OPAQUE
DTEND:20260430T193000Z
SUMMARY:NCI SBIR Peer Learning and Networking (PLAN) April 30 Webinar 
CLASS:PUBLIC
DESCRIPTION:Learn how to approach the FDA pre-submission process at the NCI
  SBIR Peer Learning and Networking (PLAN) April 30 Webinar 
DTSTAMP:20260425T225028Z
END:VEVENT
END:VCALENDAR